BEGIN:VCALENDAR
VERSION:2.0
PRODID:-//Nuutajärven Lasikylä - ECPv6.15.18//NONSGML v1.0//EN
CALSCALE:GREGORIAN
METHOD:PUBLISH
X-WR-CALNAME:Nuutajärven Lasikylä
X-ORIGINAL-URL:https://nuutajarvi.fi
X-WR-CALDESC:Tapahtumat Nuutajärven Lasikylä
REFRESH-INTERVAL;VALUE=DURATION:PT1H
X-Robots-Tag:noindex
X-PUBLISHED-TTL:PT1H
BEGIN:VTIMEZONE
TZID:Europe/Helsinki
BEGIN:DAYLIGHT
TZOFFSETFROM:+0200
TZOFFSETTO:+0300
TZNAME:EEST
DTSTART:20230326T010000
END:DAYLIGHT
BEGIN:STANDARD
TZOFFSETFROM:+0300
TZOFFSETTO:+0200
TZNAME:EET
DTSTART:20231029T010000
END:STANDARD
BEGIN:DAYLIGHT
TZOFFSETFROM:+0200
TZOFFSETTO:+0300
TZNAME:EEST
DTSTART:20240331T010000
END:DAYLIGHT
BEGIN:STANDARD
TZOFFSETFROM:+0300
TZOFFSETTO:+0200
TZNAME:EET
DTSTART:20241027T010000
END:STANDARD
BEGIN:DAYLIGHT
TZOFFSETFROM:+0200
TZOFFSETTO:+0300
TZNAME:EEST
DTSTART:20250330T010000
END:DAYLIGHT
BEGIN:STANDARD
TZOFFSETFROM:+0300
TZOFFSETTO:+0200
TZNAME:EET
DTSTART:20251026T010000
END:STANDARD
BEGIN:DAYLIGHT
TZOFFSETFROM:+0200
TZOFFSETTO:+0300
TZNAME:EEST
DTSTART:20260329T010000
END:DAYLIGHT
BEGIN:STANDARD
TZOFFSETFROM:+0300
TZOFFSETTO:+0200
TZNAME:EET
DTSTART:20261025T010000
END:STANDARD
BEGIN:DAYLIGHT
TZOFFSETFROM:+0200
TZOFFSETTO:+0300
TZNAME:EEST
DTSTART:20270328T010000
END:DAYLIGHT
BEGIN:STANDARD
TZOFFSETFROM:+0300
TZOFFSETTO:+0200
TZNAME:EET
DTSTART:20271031T010000
END:STANDARD
END:VTIMEZONE
BEGIN:VEVENT
DTSTART;TZID=Europe/Helsinki:20260307T100000
DTEND;TZID=Europe/Helsinki:20260307T160000
DTSTAMP:20260418T132927
CREATED:20260126T140658Z
LAST-MODIFIED:20260126T140658Z
UID:10000071-1772877600-1772899200@nuutajarvi.fi
SUMMARY:Antiikki- ja designlasin keräilymessut 7.3.2026
DESCRIPTION:FI | Ihaile ja hanki lasiaarteita Suomen vanhimmassa lasikylässä.\n\nAntiikki- ja designlasin keräilymessut 7.3.2026 tarjoavat mahdollisuuden tehdä lasilöytöjä kotiin\, kokoelmiin tai lahjaksi. Messuilta löydät antiikkia\, keräilyharvinaisuuksia\, vintage-aarteita ja design‑löytöjä – sekä paljon muita lasin ystäviä.\n\n Paikka: Lasimakasiini\, Nuutajärven Lasikylä Aika: la 7.3.2026 klo 10–16 Vapaa pääsy\n\nHaluatko myyjäksi?– Myyntipöydät 30 €– Varaa paikkasi: myynti@nuutajarvenlasi.fiPaikkoja on rajallisesti – varmista oma pöytäsi ajoissa.\n\nKoe lasin historia ja elämysten kylä:– Nauti lounas Pruuki Bistrossa tai kahvit tunnelmallisessa Café Oldermanissa– Ihaile Oiva Toikan lasilintujen pysyvää Lintukoto‑näyttelyä– Sukella suomalaisen lasimuotoilun tarinaan Lasimuseo Prykärissä – Vinttigalleriassa esillä Jaettu hehku -näyttely ja Aulassa Samuli Parkkisen näyttely– Ihastele 1800‑luvun ruukkimiljöötä ja tutustu Lasikylän gallerioihin ja putiikkeihin– Poikkea Pub Airanteeseen lasilliselle klo 16 jälkeen– Jää yöksi ja viimeistele elämys levollisilla unilla Kylähotelli 1793:ssa\n\nTervetuloa Nuutajärvelle!\n–––\nEN | Discover and collect glass treasures in Finland’s oldest glass village. \nThe Antique & Vintage Glass Collectors’ Fair on March 7\, 2026 offers the opportunity to discover unique glass treasures for your home\, your collection or as a gift. At the fair\, you’ll find antique glass\, collectible rarities\, vintage pieces and design pieces – and meet others who share a passion for glass.\n\n Location: Lasimakasiini\, Nuutajärvi Glass Village Time: Sat\, March 7\, 2026\, 10 AM–4 PM Free admission\n\nInterested in becoming an exhibitor?– Table fee €30– Reserve your spot: myynti@nuutajarvenlasi.fi\nSpace is limited – secure your table early.\n\nDiscover the history of glass and a village full of wonders:– Enjoy lunch at Pruuki Bistro or coffee at the cozy Café Olderman– Admire Oiva Toikka’s iconic glass birds in the permanent Lintukoto exhibition– Dive into the story of Finnish glass design at the Prykäri Glass Museum – featuring the Shared Glow exhibition in the Vinttigalleria and works by Samuli Parkkinen in the Aula– Wander through the 19th‑century surroundings and explore the village’s galleries and boutiques– Stop by Pub Airanne for a drink (after 4 PM)– Stay overnight and complete your visit with a peaceful sleep at Kylähotelli 1793\n\nWelcome to Nuutajärvi!
URL:https://nuutajarvi.fi/event/antiikki-ja-designlasin-kerailymessut-7-3-2026
LOCATION:Lasimakasiini\, Pruukinraitti 15\, Urjala\, 31160\, Suomi
ATTACH;FMTTYPE=image/jpeg:https://nuutajarvi.fi/wp-content/uploads/2026/01/619654275_122118948057129137_2141488373702703309_n.jpg
END:VEVENT
BEGIN:VEVENT
DTSTART;TZID=Europe/Helsinki:20250914T150000
DTEND;TZID=Europe/Helsinki:20250914T150000
DTSTAMP:20260418T132927
CREATED:20250826T182831Z
LAST-MODIFIED:20250904T144604Z
UID:10000061-1757862000-1757862000@nuutajarvi.fi
SUMMARY:Rauman mieslaulajien iltapäivän kahvikonsertti
DESCRIPTION:Syyskuussa 1925 joukko raumalaisia laulumiehiä sopi kokoontuvansa pitämään lauluharjoituksia.  Päiväksi sovittiin la 27.9.1925. Tässä tilaisuudessa tehtiin päätös Rauman Mieslaulajien perustamisesta. \nKuoron 100-v. juhlavuosi huipentuu juhlakonserttiin. \nSunnuntaina 14.9.2025 kello 15.00 pidettävä konsertti Lasimakasiinissa on kuoron kenraaliharjoitus juhlakonserttia varten. \nLiput Pruuki Bistrosta ja ovelta \nAikuiset 15 €\nEläkeläiset ja alle 12-vuotiaat 12 € \n 
URL:https://nuutajarvi.fi/event/rauman-mieslaulajien-iltapaivan-kahvikonsertti
LOCATION:Lasimakasiini\, Pruukinraitti 15\, Urjala\, 31160\, Suomi
ATTACH;FMTTYPE=image/jpeg:https://nuutajarvi.fi/wp-content/uploads/2025/08/Mieslaulajien-mainos_1.0.jpg
END:VEVENT
BEGIN:VEVENT
DTSTART;TZID=Europe/Helsinki:20240720T190000
DTEND;TZID=Europe/Helsinki:20240720T220000
DTSTAMP:20260418T132927
CREATED:20240711T081311Z
LAST-MODIFIED:20240711T081528Z
UID:10000002-1721502000-1721512800@nuutajarvi.fi
SUMMARY:Keskikesän tanssit Lasimakasiinissa: Eino Grön ja Vanha Jengi
DESCRIPTION:20.7.2024 KLO 19.00 Keskikesän tanssit Lasimakasiinissa: Eino Grön ja Vanha Jengi \nTule viettämään unohtumatonta kesäiltaa lasikylän hehkussa 20.7.2024\, kun laulajalegenda Eino Grön saapuu tanssiorkesteri Vanhan Jengin kanssa Lasimakasiiniin.\n\nKeskikesän tanssit 20.7.2024 klo 19.00 alkaen Nuutajärven Lasimakasiinissa\n\nSisäänpääsy 20 €\n\nLiput voi ostaa ennakkoon lippupisteestä:\nhttps://www.lippu.fi/artist/einogroenjavanhajengi/\n\nLämpimästi tervetuloa!
URL:https://nuutajarvi.fi/event/keskikesan-tanssit-lasimakasiinissa-eino-gron-ja-vanha-jengi
LOCATION:Lasimakasiini\, Pruukinraitti 15\, Urjala\, 31160\, Suomi
ATTACH;FMTTYPE=image/jpeg:https://nuutajarvi.fi/wp-content/uploads/2024/07/gron.jpg
END:VEVENT
END:VCALENDAR