BEGIN:VCALENDAR
VERSION:2.0
PRODID:-//Nuutajärven Lasikylä - ECPv6.15.18//NONSGML v1.0//EN
CALSCALE:GREGORIAN
METHOD:PUBLISH
X-WR-CALNAME:Nuutajärven Lasikylä
X-ORIGINAL-URL:https://nuutajarvi.fi
X-WR-CALDESC:Tapahtumat Nuutajärven Lasikylä
REFRESH-INTERVAL;VALUE=DURATION:PT1H
X-Robots-Tag:noindex
X-PUBLISHED-TTL:PT1H
BEGIN:VTIMEZONE
TZID:Europe/Helsinki
BEGIN:DAYLIGHT
TZOFFSETFROM:+0200
TZOFFSETTO:+0300
TZNAME:EEST
DTSTART:20230326T010000
END:DAYLIGHT
BEGIN:STANDARD
TZOFFSETFROM:+0300
TZOFFSETTO:+0200
TZNAME:EET
DTSTART:20231029T010000
END:STANDARD
BEGIN:DAYLIGHT
TZOFFSETFROM:+0200
TZOFFSETTO:+0300
TZNAME:EEST
DTSTART:20240331T010000
END:DAYLIGHT
BEGIN:STANDARD
TZOFFSETFROM:+0300
TZOFFSETTO:+0200
TZNAME:EET
DTSTART:20241027T010000
END:STANDARD
BEGIN:DAYLIGHT
TZOFFSETFROM:+0200
TZOFFSETTO:+0300
TZNAME:EEST
DTSTART:20250330T010000
END:DAYLIGHT
BEGIN:STANDARD
TZOFFSETFROM:+0300
TZOFFSETTO:+0200
TZNAME:EET
DTSTART:20251026T010000
END:STANDARD
BEGIN:DAYLIGHT
TZOFFSETFROM:+0200
TZOFFSETTO:+0300
TZNAME:EEST
DTSTART:20260329T010000
END:DAYLIGHT
BEGIN:STANDARD
TZOFFSETFROM:+0300
TZOFFSETTO:+0200
TZNAME:EET
DTSTART:20261025T010000
END:STANDARD
BEGIN:DAYLIGHT
TZOFFSETFROM:+0200
TZOFFSETTO:+0300
TZNAME:EEST
DTSTART:20270328T010000
END:DAYLIGHT
BEGIN:STANDARD
TZOFFSETFROM:+0300
TZOFFSETTO:+0200
TZNAME:EET
DTSTART:20271031T010000
END:STANDARD
END:VTIMEZONE
BEGIN:VEVENT
DTSTART;TZID=Europe/Helsinki:20260404T090000
DTEND;TZID=Europe/Helsinki:20260404T170000
DTSTAMP:20260420T115739
CREATED:20260402T111503Z
LAST-MODIFIED:20260402T115058Z
UID:10000073-1775293200-1775322000@nuutajarvi.fi
SUMMARY:Lasikylän pääsiäinen / Easter at the Glass Village
DESCRIPTION:FI | LASIKYLÄN PÄÄSIÄINEN  Suomen vanhimman lasikylän pääsiäinen tarjoaa tehtävää ja nähtävää koko perheelle: pieni aarrejahti lapsille\, lasinpuhallusta sekä pääsiäisherkkuja keväisessä ruukkimiljöössä. \n\n\n Lapsille– Arrejahti Lasikylän miljöössä (pieni pääsiäispalkinto)– Pääsiäisaskartelua sisätiloissa \n\n\n LasinpuhallustaPuhalla itse joutsen\, ruusu tai pallo ammattilaisen ohjaamana. Elämyksiä varattavana lauantaina aikavälille klo 11–15. Elämyspuhalluksen hinta 50 €/henkilö. Teethän varauksen etukäteen\, sillä paikkoja on rajoitetusti: myynti@nuutajarvenlasi.fi \n\n\n Herkkuja– Pruuki Bistrossa pääsisäistyylinen à la carte -lista– Jäätelöpallotarjous 2 €/pallo– Sunnuntaina 5.4. pizzaa klo 13–18 ravintola Pub Airanteessa \n\n Lasin lumoa– Oiva Toikan Lintukoto klo 11 – 16– Lasimuseo Prykäri – Vinttigalleriassa esillä Jaettu hehku -näyttely ja Aulassa Samuli Parkkisen näyttely klo 11 – 16– Takolasi– Nuutajärvi Shop klo 11 – 15– Vintage Lasi Myymälä Pikku Masa klo 10 – 17\n– Mahdollisten aarteiden kirpputori klo 11 – 15\n\n Ulkoilua kevätluonnossa– Kevät hurmaa Nuutajärven metsäisissä järvimaisemissa. Lasikylää ympäröivään luontoon voi tutustua omatoimisesti retkeillen tai pyöräillen: Airanteen askellus on noin 6 km pitkä rengasreitti. Rutajärven Rundi on noin 25 km pitkä\, merkitty pyöräilyreitti\, joka kulkee kauniin Rutajärven kraaterijärven ympäri. Reitti kulkee Lasikylän kautta. Painettuja karttoja reitistä saat Pruuki Bistrosta\, mutta voit myös ladata kartan. \n\nTervetuloa viettämään pääsiäispäivää Nuutajärvelle. ___\n\nEN | EASTER AT THE GLASS VILLAGE  Easter in Finland’s oldest glass village offers things to see and do for the whole family: glassblowing\, small Easter adventures for children\, and delicious treats in the historic setting. \n\n\n For children– Treasure hunt around the Glass Village (small Easter reward)– Easter crafts indoors \n\n\n GlassblowingBlow your own swan\, rose or glass sphere with guidance from a professional. Experiences are available on Saturday from 11 AM to 3 PM. The glassblowing experience costs €50 per person.Please book in advance\, as places are limited: myynti@nuutajarvenlasi.fi \n\n\n Treats– Easter‑style à la carte menu at Pruuki Bistro– Ice cream scoop offer €2 / scoop– On Sunday\, April 5\, pizza from 1 PM to 6 PM at Pub Airanne \n\n Glass and design– Oiva Toikka’s permanent Bird Nest exhibition 11 – 16– Finnish glass design at the Prykäri Glass Museum 11 – 16– Shared Glow exhibition at the Vinttigalleria 11 – 16– Works by Samuli Parkkinen in the Aula 11 – 16– Takolasi– Nuutajärvi Shop 11 – 15– Vintage glass shop Pikku Masa 10 – 17\n– Mahdollisten aarteiden kirpputori 11 – 15\n\n Outdoor activities in the spring natureYou can explore the surrounding nature of the Glass Village independently by hiking or cycling: the Airanne Trail is a circular route of about 6 km. The Rutajärvi Round is a marked cycling route of approximately 25 km that goes around the beautiful crater lake Rutajärvi. The route passes through the Glass Village. Printed maps of the route are available at Pruuki Bistro. \nLue lisää Nuutajärven Lasin sivuilta.
URL:https://nuutajarvi.fi/event/lasikylan-paasiainen
ATTACH;FMTTYPE=image/jpeg:https://nuutajarvi.fi/wp-content/uploads/2026/04/Paasiainen.jpg
END:VEVENT
BEGIN:VEVENT
DTSTART;TZID=Europe/Helsinki:20240928T110000
DTEND;TZID=Europe/Helsinki:20240928T170000
DTSTAMP:20260420T115739
CREATED:20240906T083402Z
LAST-MODIFIED:20240916T062844Z
UID:10000012-1727521200-1727542800@nuutajarvi.fi
SUMMARY:Nuutajärvi tutuksi
DESCRIPTION:Syyskauden ensimmäistä Nuutajärvi tutuksi -päivää vietetään lauantaina 28.9. klo 11–17! \nKylän taiteilijoiden työhuoneilla ja putiikeissa on perinteiseen tapaan avoimet ovet\, lisäksi museoiden sisäänpääsy on puoleen hintaan. Tällä kertaa ohjelmassa on myös ainutlaatuinen syväsukellus Oiva Toikan elämään ja uraan Nuutajärvellä sekä viimeistä viikonloppua auki oleva Juhlatuulella! -näyttely Lasimuseo Prykärissä. \nOpastuskierrokset:\nOiva Toikan Nuutajärvi klo 12–13\nNuutajärven Lasikylä oli taiteilija Oiva Toikan (1931–2019) monikymmenvuotinen asuin- ja työpaikka. Opastettu kierros keskittyy hänen henkilöhistoriaansa\, persoonaansa ja monipuoliseen uraansa taiteilijana.\nKesto: 1 tunti\nOpastuksen hinta: 5 € / hlö\nRyhmän koko: max. 20 henkilöä\nOpas: Marja-Leena Salo\nIlmoittautumiset: marjaleena.salo55@gmail.com\nKokoontuminen: Lasikylän Pruuki Bistro -ravintolan edessä \nOpastuskierros Nuutajärven kartanolla klo 14–15\nKierroksella päästään tutustumaan Nuutajärven kartanon kiehtovaan historiaan. Ennakkoilmoittautumiset Sauli Siekkiselle\, sauli.siekkinen@gmail.com. Opastuskierroksen hinta on 10 €/hlö\, lapset alle 12-v. ilmaiseksi. \nNäyttelyt:\n– Lasikomppanian ensimmäistä 20 vuotta juhliva Juhlatuulella! -näyttely avoinna viimeistä viikonloppua Lasimuseo Prykärissä! Näyttely on lauantaina auki klo 11–17.\n– Oiva Toikan Lintukoto avoinna klo 11–17\n– Otuksia ja olioita Nuutajärvellä – Lasten lasisuunnittelukilpailun voittajat Puukonttorilla\, avoinna klo 11–17 \nLisäksi avoinna ainakin (lista päivittyy):\n– Pruuki Bistro klo 11–17\n– Nuutajärvi Shop klo 11–17\n– Pikku Masa klo 11–17\n– Muottipajan Myymälä klo 11–17\n– Cafe Olderman klo 11–17\n– Mahdollisten Aarteiden kirpputori klo 10–16 (Pitkämäentie 5\, vain käteismaksut)
URL:https://nuutajarvi.fi/event/nuutajarvi-tutuksi
ATTACH;FMTTYPE=image/png:https://nuutajarvi.fi/wp-content/uploads/2024/09/Blue-Orange-Fall-Collage-Facebook-Video-Cover.png
END:VEVENT
END:VCALENDAR