BEGIN:VCALENDAR
VERSION:2.0
PRODID:-//Nuutajärven Lasikylä - ECPv6.15.18//NONSGML v1.0//EN
CALSCALE:GREGORIAN
METHOD:PUBLISH
X-ORIGINAL-URL:https://nuutajarvi.fi
X-WR-CALDESC:Tapahtumat Nuutajärven Lasikylä
REFRESH-INTERVAL;VALUE=DURATION:PT1H
X-Robots-Tag:noindex
X-PUBLISHED-TTL:PT1H
BEGIN:VTIMEZONE
TZID:Europe/Helsinki
BEGIN:DAYLIGHT
TZOFFSETFROM:+0200
TZOFFSETTO:+0300
TZNAME:EEST
DTSTART:20230326T010000
END:DAYLIGHT
BEGIN:STANDARD
TZOFFSETFROM:+0300
TZOFFSETTO:+0200
TZNAME:EET
DTSTART:20231029T010000
END:STANDARD
BEGIN:DAYLIGHT
TZOFFSETFROM:+0200
TZOFFSETTO:+0300
TZNAME:EEST
DTSTART:20240331T010000
END:DAYLIGHT
BEGIN:STANDARD
TZOFFSETFROM:+0300
TZOFFSETTO:+0200
TZNAME:EET
DTSTART:20241027T010000
END:STANDARD
BEGIN:DAYLIGHT
TZOFFSETFROM:+0200
TZOFFSETTO:+0300
TZNAME:EEST
DTSTART:20250330T010000
END:DAYLIGHT
BEGIN:STANDARD
TZOFFSETFROM:+0300
TZOFFSETTO:+0200
TZNAME:EET
DTSTART:20251026T010000
END:STANDARD
END:VTIMEZONE
BEGIN:VEVENT
DTSTART;TZID=Europe/Helsinki:20240809T100000
DTEND;TZID=Europe/Helsinki:20240810T160000
DTSTAMP:20260421T115826
CREATED:20240729T084508Z
LAST-MODIFIED:20240731T120556Z
UID:10000004-1723197600-1723305600@nuutajarvi.fi
SUMMARY:Lasten lasisuunnittelukilpailun puhalluspäivät 9.–10.8.
DESCRIPTION:Lasten lasisuunnittelukilpailun voittajatöitä puhalletaan Lasikomppanian lasihytissä Nuutajärvellä perjantaina ja lauantaina 9.–10.8.2024! Kaikki lasinpuhalluksesta kiinnostuneet ovat tervetulleita seuraamaan esineiden valmistumista hytin ikkunoista molempina päivinä klo 10–16. \nHyttipäivien aikana toteutetaan kaikkiaan 14 kilpailuun tulleista ehdotuksista valittua värikästä teosta. Valmiit voittajateokset pääsevät ensin näytille Nuutajärvelle koostettavaan gallerianäyttelyyn. Myöhemmin syksyllä teokset ovat esillä Tampereen Valoviikot avaavassa Ruudun takaa –taideikkunakokonaisuudessa. Tämän jälkeen ne lahjoitetaan kilpailun voittajille. \nNuutajärven lasikylän näyttelyt ja palvelut ovat puhalluspäivinä normaalisti auki klo 10–18. Nuutajärvi Shop on avoinna klo 10–16. \nOtuksia ja olioita -teemaisen kilpailun ovat järjestivät Nuutajärven lasikylän kulttuurisäätiö ja lasistudio Lasisirkus.  \nKilpailua on tukenut Operaatio Pirkanmaa.
URL:https://nuutajarvi.fi/event/lasten-lasisuunnittelukilpailun-puhalluspaivat-9-10-8
ATTACH;FMTTYPE=image/jpeg:https://nuutajarvi.fi/wp-content/uploads/2024/07/MIT_1519-e1722242880597.jpg
END:VEVENT
BEGIN:VEVENT
DTSTART;TZID=Europe/Helsinki:20240803T193000
DTEND;TZID=Europe/Helsinki:20240804T010000
DTSTAMP:20260421T115826
CREATED:20240729T090443Z
LAST-MODIFIED:20240729T155842Z
UID:10000005-1722713400-1722733200@nuutajarvi.fi
SUMMARY:Penttariklubi 3.8. klo 19.30
DESCRIPTION:Penttariklubi 3.8.2024 klo 19.30-01.00 Nuutajärven Lasimakasiinissa. \nPenttariklubi tarjoilee menoa ja meininkiä kesäisessä illassa. Sympaattinen ja mukava stand up -koomikko Heikki Vilja naurattaa yleisöä yli viidentoista vuoden kokemuksella. \nMusiikista vastaavat Nuutajärven oma ylpeys Smaragdi ja illan päätteeksi tanssitaan DJ Haraldin tahdissa. \nLiput: https://www.lippu.fi/artist/penttariklubi/
URL:https://nuutajarvi.fi/event/penttariklubi-3-8-klo-19-30
ATTACH;FMTTYPE=image/png:https://nuutajarvi.fi/wp-content/uploads/2024/07/3-1-e1722268708148.png
END:VEVENT
BEGIN:VEVENT
DTSTART;VALUE=DATE:20240721
DTEND;VALUE=DATE:20240930
DTSTAMP:20260421T115826
CREATED:20240711T073820Z
LAST-MODIFIED:20240828T074148Z
UID:10000001-1721520000-1727654399@nuutajarvi.fi
SUMMARY:Lasikomppanian 20-vuotisjuhlanäyttely
DESCRIPTION:Nuutajärven Lasimuseo Prykärin aikamatka jatkuu\nNuutajärven Lasikylän sydämessä sijaitsevan täysin saneeratun Lasimuseo Prykärin uudet tilat avaavat ovensa nyt heinäkuussa. Uusituissa tiloissa käynnistyy alueella työskentelevän Lasikomppanian 20-vuotisjuhlanäyttely. \nAvoinna 21.7.-29.9.2024 ti-la klo 11.00-17.00 ja su klo 11.00-16.00. \nNuutajärven Lasimuseo Prykärin avajaisnäyttely pidettiin aikanaan toukokuussa vuonna 1977. Museon suunnittelijana toimi taiteilijaprofessori Kaj Franck. Museorakennukseksi valikoitui vanha olutpanimo\, mistä nimi Prykäri myös juontaa alkuperänsä. Rakennuksen ensimmäisessä kerroksessa sijaitseva museo esittelee käytännössä merkittävän osan koko suomalaisen käsintehdyn lasin kehityksestä 1700-luvun lopusta nykypäivään. \nPrykäri-rakennus on läpikäynyt perusteellisen kunnostuksen ja muun muassa rakennuksen yläkerta on rakennettu näyttelytilaksi. Kyseinen tila mahdollistaa sen käytön ympärivuotisesti. Jos rakennuksen ensimmäinen kerros holvikattoisine saleineen edustaa käsintehdyn lasin historiaa\, niin uusi yläkerran näyttelytila mahdollistaa laajasti nykypäivän taiteilijoiden huippuosaamisen esilletuomisen. \n”Rakennus oli täydellisesti saneerattava\, koska seuraava lumitalvi olisi tuhonnut sen lopullisesti. Nyt rakennus on korjattu pitkäksi aikaa\, ja siitä on syntynyt ympäri vuoden auki oleva museo”\, Nuutajärvi Pruuki Oy:n toimitusjohtaja Ari Salmi kertoo. \nUusitut tilat avaavat nyt Lasikomppanian Juhlatuulella! 20-vuotisjuhlanäyttelyn. Tämä merkittävä tapahtuma tarjoaa yleisölle mahdollisuuden tutustua lasitaiteeseen ja 37 taiteilijan töihin\, jotka ovat kaikki tehneet lasia Nuutajärven Lasikylässä. Näyttelyssä on mukana teoksia viimeisen 20 vuoden ajalta\, keskittyen erityisesti teollisen tuotannon ulkopuolella työskenteleviin tekijöihin. Käsityönä valmistettuun lasiin liittyvä tieto\, tekniikat ja taito on liitetty Unescon ihmiskunnan aineettomaan kulttuuriperinnön luetteloon. \nLasikomppanian ylläpitämä lasihytti tarjoaa laadukkaat mahdollisuudet työskentelyyn kuuman lasin parissa toimiville lasintekijöille. Vuonna 2004 perustettuun yhdistykseen kuuluu lasitaiteilijoita\, muotoilijoita ja lasinpuhaltajia. Lasikomppanian hytti ja sen ympärille kasvanut lasialan taitajien verkosto on Pohjoismaissa ainoa laatuaan. Yhdistyksen jäsenten lisäksi hyttiä käyttää suuri joukko muotoilijoita ja taiteilijoita\, jotka tarvitsevat kuumaa lasia projekteihinsa. Lasihytissä järjestetään myös tapahtumia ja kansainvälisiä residenssejä.
URL:https://nuutajarvi.fi/event/lasikomppanian-20-vuotisjuhlanayttely
LOCATION:Lasimuseo Prykäri\, Tehtaantie 2\, Nuutajärvi\, 31160\, Suomi
ATTACH;FMTTYPE=image/jpeg:https://nuutajarvi.fi/wp-content/uploads/2024/07/arialma.jpg
END:VEVENT
BEGIN:VEVENT
DTSTART;TZID=Europe/Helsinki:20240720T190000
DTEND;TZID=Europe/Helsinki:20240720T220000
DTSTAMP:20260421T115826
CREATED:20240711T081311Z
LAST-MODIFIED:20240711T081528Z
UID:10000002-1721502000-1721512800@nuutajarvi.fi
SUMMARY:Keskikesän tanssit Lasimakasiinissa: Eino Grön ja Vanha Jengi
DESCRIPTION:20.7.2024 KLO 19.00 Keskikesän tanssit Lasimakasiinissa: Eino Grön ja Vanha Jengi \nTule viettämään unohtumatonta kesäiltaa lasikylän hehkussa 20.7.2024\, kun laulajalegenda Eino Grön saapuu tanssiorkesteri Vanhan Jengin kanssa Lasimakasiiniin.\n\nKeskikesän tanssit 20.7.2024 klo 19.00 alkaen Nuutajärven Lasimakasiinissa\n\nSisäänpääsy 20 €\n\nLiput voi ostaa ennakkoon lippupisteestä:\nhttps://www.lippu.fi/artist/einogroenjavanhajengi/\n\nLämpimästi tervetuloa!
URL:https://nuutajarvi.fi/event/keskikesan-tanssit-lasimakasiinissa-eino-gron-ja-vanha-jengi
LOCATION:Lasimakasiini\, Pruukinraitti 15\, Urjala\, 31160\, Suomi
ATTACH;FMTTYPE=image/jpeg:https://nuutajarvi.fi/wp-content/uploads/2024/07/gron.jpg
END:VEVENT
BEGIN:VEVENT
DTSTART;VALUE=DATE:20240627
DTEND;VALUE=DATE:20240804
DTSTAMP:20260421T115826
CREATED:20240711T082237Z
LAST-MODIFIED:20240711T082237Z
UID:10000003-1719446400-1722729599@nuutajarvi.fi
SUMMARY:Peace & Love -näyttely Nuutajärven kartanolla
DESCRIPTION:Peace & Love -taidenäyttely Nuutajärven Kartanolla on uutuus Urjalan kulttuuritarjonnassa! Punainen Sali ja autenttinen vanha miljöö toimivat vahvatunnelmaisena taustana Peace & Love -teemaisille taideteoksille. \nNuutajärvellä toimivien taiteilijoiden ja Sauli Siekkisen yhteistyönä tuottama näyttely avaa kartanon ovet yleisölle koko heinäkuun ajaksi. Näyttelystä ja Punaisen Salin kesäisestä valosta pääsee nauttimaan myös Peace & Love-tunnelmissa myös ohjatussa joogassa kolmena torstaina heinäkuussa. \nKartano sijaitsee lyhyen kävelymatkan päässä lasikylän muista nähtävyyksistä ja palveluista\, joten voit helposti yhdistää näyttelyreissun päiväretkeen Nuutajärvelle. \nNäyttelyn taiteilijat ovat Henri Carrara\, Jenni Sorsa\, Alma Jantunen\, Antti Kuikka\, Paula Pääkkönen\, Reetta Levander\, Johannes Rantasalo\, Gina Salaris\, Markku Salo\, Lea Swantz ja Heikki Viinikainen. \nNäyttely on avoinna 27.6.–3.8. ma-pe 10–16 ja la 13–16\, lauantaisin paikalla on myös näyttelyn taiteilijoita. Huom! Näyttely on suljettu yksityistilaisuuden vuoksi lauantaina 6.7. Sisäänpääsymaksu 7 €. Lisäksi joogaa Punaisessa Salissa heinäkuisina torstaina 11.7.\, 18.7 ja 25.7. klo 16\, osallistumismaksu 7 € /kerta. \nNäyttely on toisessa kerroksessa\, johon ei ole esteetöntä kulkua. \nPysäköintipaikkoja on rajoitetusti\, suosittelemme mahdollisuuksien mukaan jättämään autot Nuutajärven Lasikylän parkkipaikoille ja käymään kartanolla kävellen. \n \n \n 
URL:https://nuutajarvi.fi/event/peace-love-nayttely-nuutajarven-kartanolla
LOCATION:Nuutajärven kartano\, Pruukinraitti 15\, Urjala\, 31160\, Suomi
ATTACH;FMTTYPE=image/jpeg:https://nuutajarvi.fi/wp-content/uploads/2024/07/peacelove.jpg
END:VEVENT
END:VCALENDAR